BEGIN:VCALENDAR
VERSION:2.0
PRODID:-//Littleton Historical Society - ECPv6.15.20//NONSGML v1.0//EN
CALSCALE:GREGORIAN
METHOD:PUBLISH
X-ORIGINAL-URL:https://www.littletonhistoricalsociety.org
X-WR-CALDESC:Events for Littleton Historical Society
REFRESH-INTERVAL;VALUE=DURATION:PT1H
X-Robots-Tag:noindex
X-PUBLISHED-TTL:PT1H
BEGIN:VTIMEZONE
TZID:America/New_York
BEGIN:DAYLIGHT
TZOFFSETFROM:-0500
TZOFFSETTO:-0400
TZNAME:EDT
DTSTART:20240310T070000
END:DAYLIGHT
BEGIN:STANDARD
TZOFFSETFROM:-0400
TZOFFSETTO:-0500
TZNAME:EST
DTSTART:20241103T060000
END:STANDARD
BEGIN:DAYLIGHT
TZOFFSETFROM:-0500
TZOFFSETTO:-0400
TZNAME:EDT
DTSTART:20250309T070000
END:DAYLIGHT
BEGIN:STANDARD
TZOFFSETFROM:-0400
TZOFFSETTO:-0500
TZNAME:EST
DTSTART:20251102T060000
END:STANDARD
BEGIN:DAYLIGHT
TZOFFSETFROM:-0500
TZOFFSETTO:-0400
TZNAME:EDT
DTSTART:20260308T070000
END:DAYLIGHT
BEGIN:STANDARD
TZOFFSETFROM:-0400
TZOFFSETTO:-0500
TZNAME:EST
DTSTART:20261101T060000
END:STANDARD
END:VTIMEZONE
BEGIN:VEVENT
DTSTART;TZID=America/New_York:20250507T130000
DTEND;TZID=America/New_York:20250507T160000
DTSTAMP:20260424T040135
CREATED:20250502T200837Z
LAST-MODIFIED:20250502T200837Z
UID:3379-1746622800-1746633600@www.littletonhistoricalsociety.org
SUMMARY:OPEN 1-4PM
DESCRIPTION:
URL:https://www.littletonhistoricalsociety.org/event/open-1-4pm-234/
END:VEVENT
BEGIN:VEVENT
DTSTART;TZID=America/New_York:20250511T130000
DTEND;TZID=America/New_York:20250511T160000
DTSTAMP:20260424T040135
CREATED:20250502T201113Z
LAST-MODIFIED:20250502T201113Z
UID:3387-1746968400-1746979200@www.littletonhistoricalsociety.org
SUMMARY:OPEN 1-4PM
DESCRIPTION:
URL:https://www.littletonhistoricalsociety.org/event/open-1-4pm-238/
END:VEVENT
BEGIN:VEVENT
DTSTART;TZID=America/New_York:20250514T130000
DTEND;TZID=America/New_York:20250514T160000
DTSTAMP:20260424T040135
CREATED:20250502T200911Z
LAST-MODIFIED:20250502T200911Z
UID:3381-1747227600-1747238400@www.littletonhistoricalsociety.org
SUMMARY:OPEN 1-4PM
DESCRIPTION:
URL:https://www.littletonhistoricalsociety.org/event/open-1-4pm-235/
END:VEVENT
BEGIN:VEVENT
DTSTART;TZID=America/New_York:20250515T193000
DTEND;TZID=America/New_York:20250515T210000
DTSTAMP:20260424T040135
CREATED:20250502T201303Z
LAST-MODIFIED:20250502T201457Z
UID:3389-1747337400-1747342800@www.littletonhistoricalsociety.org
SUMMARY:MEMBERSHIP PROGRAM Quarantine Station
DESCRIPTION:Click on above for larger view
URL:https://www.littletonhistoricalsociety.org/event/membership-program-2/
END:VEVENT
BEGIN:VEVENT
DTSTART;TZID=America/New_York:20250521T130000
DTEND;TZID=America/New_York:20250521T160000
DTSTAMP:20260424T040135
CREATED:20250502T200951Z
LAST-MODIFIED:20250502T200951Z
UID:3383-1747832400-1747843200@www.littletonhistoricalsociety.org
SUMMARY:OPEN 1-4PM
DESCRIPTION:
URL:https://www.littletonhistoricalsociety.org/event/open-1-4pm-236/
END:VEVENT
BEGIN:VEVENT
DTSTART;TZID=America/New_York:20250528T130000
DTEND;TZID=America/New_York:20250528T160000
DTSTAMP:20260424T040135
CREATED:20250502T201027Z
LAST-MODIFIED:20250502T201027Z
UID:3385-1748437200-1748448000@www.littletonhistoricalsociety.org
SUMMARY:OPEN 1-4PM
DESCRIPTION:
URL:https://www.littletonhistoricalsociety.org/event/open-1-4pm-237/
END:VEVENT
END:VCALENDAR