BEGIN:VCALENDAR
VERSION:2.0
PRODID:-//Littleton Historical Society - ECPv6.15.20//NONSGML v1.0//EN
CALSCALE:GREGORIAN
METHOD:PUBLISH
X-WR-CALNAME:Littleton Historical Society
X-ORIGINAL-URL:https://www.littletonhistoricalsociety.org
X-WR-CALDESC:Events for Littleton Historical Society
REFRESH-INTERVAL;VALUE=DURATION:PT1H
X-Robots-Tag:noindex
X-PUBLISHED-TTL:PT1H
BEGIN:VTIMEZONE
TZID:America/New_York
BEGIN:DAYLIGHT
TZOFFSETFROM:-0500
TZOFFSETTO:-0400
TZNAME:EDT
DTSTART:20240310T070000
END:DAYLIGHT
BEGIN:STANDARD
TZOFFSETFROM:-0400
TZOFFSETTO:-0500
TZNAME:EST
DTSTART:20241103T060000
END:STANDARD
BEGIN:DAYLIGHT
TZOFFSETFROM:-0500
TZOFFSETTO:-0400
TZNAME:EDT
DTSTART:20250309T070000
END:DAYLIGHT
BEGIN:STANDARD
TZOFFSETFROM:-0400
TZOFFSETTO:-0500
TZNAME:EST
DTSTART:20251102T060000
END:STANDARD
BEGIN:DAYLIGHT
TZOFFSETFROM:-0500
TZOFFSETTO:-0400
TZNAME:EDT
DTSTART:20260308T070000
END:DAYLIGHT
BEGIN:STANDARD
TZOFFSETFROM:-0400
TZOFFSETTO:-0500
TZNAME:EST
DTSTART:20261101T060000
END:STANDARD
END:VTIMEZONE
BEGIN:VEVENT
DTSTART;TZID=America/New_York:20250402T130000
DTEND;TZID=America/New_York:20250402T160000
DTSTAMP:20260424T054419
CREATED:20250408T141608Z
LAST-MODIFIED:20250408T141608Z
UID:3347-1743598800-1743609600@www.littletonhistoricalsociety.org
SUMMARY:Open 1-4PM
DESCRIPTION:
URL:https://www.littletonhistoricalsociety.org/event/open-1-4pm-228/
END:VEVENT
BEGIN:VEVENT
DTSTART;TZID=America/New_York:20250409T130000
DTEND;TZID=America/New_York:20250409T160000
DTSTAMP:20260424T054419
CREATED:20250408T141648Z
LAST-MODIFIED:20250408T141648Z
UID:3349-1744203600-1744214400@www.littletonhistoricalsociety.org
SUMMARY:Open 1-4PM
DESCRIPTION:
URL:https://www.littletonhistoricalsociety.org/event/open-1-4pm-229/
END:VEVENT
BEGIN:VEVENT
DTSTART;TZID=America/New_York:20250413T130000
DTEND;TZID=America/New_York:20250413T160000
DTSTAMP:20260424T054419
CREATED:20250408T141920Z
LAST-MODIFIED:20250408T141920Z
UID:3357-1744549200-1744560000@www.littletonhistoricalsociety.org
SUMMARY:Open 1-4PM
DESCRIPTION:
URL:https://www.littletonhistoricalsociety.org/event/open-1-4pm-233/
END:VEVENT
BEGIN:VEVENT
DTSTART;TZID=America/New_York:20250416T130000
DTEND;TZID=America/New_York:20250416T160000
DTSTAMP:20260424T054419
CREATED:20250408T141727Z
LAST-MODIFIED:20250408T141727Z
UID:3351-1744808400-1744819200@www.littletonhistoricalsociety.org
SUMMARY:Open 1-4PM
DESCRIPTION:
URL:https://www.littletonhistoricalsociety.org/event/open-1-4pm-230/
END:VEVENT
BEGIN:VEVENT
DTSTART;TZID=America/New_York:20250419T100000
DTEND;TZID=America/New_York:20250419T150000
DTSTAMP:20260424T054419
CREATED:20250408T142058Z
LAST-MODIFIED:20250408T143025Z
UID:3359-1745056800-1745074800@www.littletonhistoricalsociety.org
SUMMARY:Patriots Day Celebration
DESCRIPTION:PATRIOTS DAY 2025\nCommemorating 250 years since the Battles Began for Independence\n10:00   Ceremony at Liberty Square (Taylor St & Hill Rd)\n11:00-3:00   Crafts & Games at Fay Park and Historical Society\, food by Chez Rafiki\, Dirigible Brewing with a special brew! The Historical Museum will be open with exhibits on Littleton Minutemen and Revolutionary War history.\nIncluding\n11:00 Edward Wetherbee arrives from Acton with news of Patriots gathering in Lexington and Concord followed by the Boxborough Minutemen.   Short addresses by the Minutemen\, Historical Commission and Society on the lawn of the Historical Society (4 Rogers St)
URL:https://www.littletonhistoricalsociety.org/event/patriots-day-celebration-2/
END:VEVENT
BEGIN:VEVENT
DTSTART;TZID=America/New_York:20250423T130000
DTEND;TZID=America/New_York:20250423T160000
DTSTAMP:20260424T054419
CREATED:20250408T141806Z
LAST-MODIFIED:20250408T141806Z
UID:3353-1745413200-1745424000@www.littletonhistoricalsociety.org
SUMMARY:Open 1-4PM
DESCRIPTION:
URL:https://www.littletonhistoricalsociety.org/event/open-1-4pm-231/
END:VEVENT
BEGIN:VEVENT
DTSTART;TZID=America/New_York:20250430T130000
DTEND;TZID=America/New_York:20250430T160000
DTSTAMP:20260424T054419
CREATED:20250408T141843Z
LAST-MODIFIED:20250408T141843Z
UID:3355-1746018000-1746028800@www.littletonhistoricalsociety.org
SUMMARY:Open 1-4PM
DESCRIPTION:
URL:https://www.littletonhistoricalsociety.org/event/open-1-4pm-232/
END:VEVENT
END:VCALENDAR