BEGIN:VCALENDAR
VERSION:2.0
PRODID:-//Littleton Historical Society - ECPv6.15.20//NONSGML v1.0//EN
CALSCALE:GREGORIAN
METHOD:PUBLISH
X-ORIGINAL-URL:https://www.littletonhistoricalsociety.org
X-WR-CALDESC:Events for Littleton Historical Society
REFRESH-INTERVAL;VALUE=DURATION:PT1H
X-Robots-Tag:noindex
X-PUBLISHED-TTL:PT1H
BEGIN:VTIMEZONE
TZID:America/New_York
BEGIN:DAYLIGHT
TZOFFSETFROM:-0500
TZOFFSETTO:-0400
TZNAME:EDT
DTSTART:20230312T070000
END:DAYLIGHT
BEGIN:STANDARD
TZOFFSETFROM:-0400
TZOFFSETTO:-0500
TZNAME:EST
DTSTART:20231105T060000
END:STANDARD
BEGIN:DAYLIGHT
TZOFFSETFROM:-0500
TZOFFSETTO:-0400
TZNAME:EDT
DTSTART:20240310T070000
END:DAYLIGHT
BEGIN:STANDARD
TZOFFSETFROM:-0400
TZOFFSETTO:-0500
TZNAME:EST
DTSTART:20241103T060000
END:STANDARD
BEGIN:DAYLIGHT
TZOFFSETFROM:-0500
TZOFFSETTO:-0400
TZNAME:EDT
DTSTART:20250309T070000
END:DAYLIGHT
BEGIN:STANDARD
TZOFFSETFROM:-0400
TZOFFSETTO:-0500
TZNAME:EST
DTSTART:20251102T060000
END:STANDARD
END:VTIMEZONE
BEGIN:VEVENT
DTSTART;TZID=America/New_York:20240904T130000
DTEND;TZID=America/New_York:20240904T160000
DTSTAMP:20260424T171705
CREATED:20240917T195156Z
LAST-MODIFIED:20240917T195156Z
UID:3238-1725454800-1725465600@www.littletonhistoricalsociety.org
SUMMARY:Open 1-4PM
DESCRIPTION:
URL:https://www.littletonhistoricalsociety.org/event/open-1-4pm-210/
END:VEVENT
BEGIN:VEVENT
DTSTART;TZID=America/New_York:20240908T140000
DTEND;TZID=America/New_York:20240908T160000
DTSTAMP:20260424T171705
CREATED:20240917T195124Z
LAST-MODIFIED:20240917T195124Z
UID:3236-1725804000-1725811200@www.littletonhistoricalsociety.org
SUMMARY:Open 2-4PM
DESCRIPTION:
URL:https://www.littletonhistoricalsociety.org/event/open-2-4pm-24/
END:VEVENT
BEGIN:VEVENT
DTSTART;TZID=America/New_York:20240911T130000
DTEND;TZID=America/New_York:20240911T160000
DTSTAMP:20260424T171705
CREATED:20240917T195232Z
LAST-MODIFIED:20240917T195232Z
UID:3240-1726059600-1726070400@www.littletonhistoricalsociety.org
SUMMARY:Open 1-4PM
DESCRIPTION:
URL:https://www.littletonhistoricalsociety.org/event/open-1-4pm-211/
END:VEVENT
BEGIN:VEVENT
DTSTART;TZID=America/New_York:20240918T130000
DTEND;TZID=America/New_York:20240918T160000
DTSTAMP:20260424T171705
CREATED:20240917T195001Z
LAST-MODIFIED:20240917T195001Z
UID:3231-1726664400-1726675200@www.littletonhistoricalsociety.org
SUMMARY:Open 1-4pm
DESCRIPTION:
URL:https://www.littletonhistoricalsociety.org/event/open-1-4pm-208/
END:VEVENT
BEGIN:VEVENT
DTSTART;TZID=America/New_York:20240919T193000
DTEND;TZID=America/New_York:20240919T210000
DTSTAMP:20260424T171705
CREATED:20240917T194920Z
LAST-MODIFIED:20240917T194920Z
UID:3229-1726774200-1726779600@www.littletonhistoricalsociety.org
SUMMARY:Revisiting Harvard Shaker Village and its Cultural Landscape
DESCRIPTION:presented by researcher Ned Quist
URL:https://www.littletonhistoricalsociety.org/event/revisiting-harvard-shaker-village-and-its-cultural-landscape/
END:VEVENT
BEGIN:VEVENT
DTSTART;TZID=America/New_York:20240925T130000
DTEND;TZID=America/New_York:20240925T160000
DTSTAMP:20260424T171705
CREATED:20240917T195043Z
LAST-MODIFIED:20240917T195043Z
UID:3234-1727269200-1727280000@www.littletonhistoricalsociety.org
SUMMARY:Open 1-4PM
DESCRIPTION:
URL:https://www.littletonhistoricalsociety.org/event/open-1-4pm-209/
END:VEVENT
END:VCALENDAR